BEGIN:VCALENDAR
VERSION:2.0
PRODID:-//ChamberMaster//Event Calendar 2.0//EN
METHOD:PUBLISH
X-PUBLISHED-TTL:P3D
REFRESH-INTERVAL:P3D
CALSCALE:GREGORIAN
BEGIN:VEVENT
DTSTART:20240407T130000Z
DTEND:20240407T230000Z
X-MICROSOFT-CDO-ALLDAYEVENT:FALSE
SUMMARY:The Momentous 4.0 Pickleball Classic at The Burrow
DESCRIPTION:Momentous 4.0 Pickleball Classic at The Burrow\n\nCompete in the Momentous 4.0 Pickleball Classic at The Burrow in Oakdale.\n\nLimited to 24 teams. Must be a 4.0 DUPR-rated player or above.\n\nThis event will start at 8:30 am on Sunday\, April 7th\, and end at 6:00 pm\n\n1st Place- $500\n\n2nd Place- $250\n\n3rd Place- $100\n\nRegister your team at: https://www.momentouswealthadvisors.com/pickelball-classic
X-ALT-DESC;FMTTYPE=text/html:<h4><strong>Momentous 4.0 Pickleball Classic at The Burrow</strong></h4>\n\n<p>Compete in the Momentous 4.0 Pickleball Classic at The Burrow in Oakdale.</p>\n\n<p>Limited to 24 teams. Must be a 4.0 DUPR-rated player or above.</p>\n\n<p>This event will start at 8:30 am on Sunday\, April 7th\, and end at 6:00 pm</p>\n\n<p><strong>1st Place- $500</strong></p>\n\n<p><strong>2nd Place- $250</strong></p>\n\n<p><strong>3rd Place- $100</strong></p>\n\n<p>Register your team at: https://www.momentouswealthadvisors.com/pickelball-classic</p>\n
LOCATION:The Burrow in Oakdale Located in: Bergen Plaza Address: 7053 10th St N\, Oakdale\, MN 55128
UID:e.1149.66186
SEQUENCE:3
DTSTAMP:20260420T103859Z
URL:https://members.woodburychamber.org/events/details/the-momentous-4-0-pickleball-classic-at-the-burrow-66186
END:VEVENT

END:VCALENDAR
