BEGIN:VCALENDAR
VERSION:2.0
PRODID:-//ChamberMaster//Event Calendar 2.0//EN
METHOD:PUBLISH
X-PUBLISHED-TTL:P3D
REFRESH-INTERVAL:P3D
CALSCALE:GREGORIAN
BEGIN:VEVENT
DTSTART:20260603T200000Z
DTEND:20260603T220000Z
X-MICROSOFT-CDO-ALLDAYEVENT:FALSE
SUMMARY:Portkey Professional Speed Networking in EAGAN! Co-hosted by Eagan City Lifestyle Magazine!
DESCRIPTION:About this event\n\n\n\n\n\n\n\nWelcome to Portkey's Professional Speed Networking in collaboration with Eagan City Lifestyle Magazine! Join us for a fun and engaging networking event at Union 32 Craft House in Eagan. Meet like-minded professionals\, make valuable connections\, and expand your network in a relaxed environment.\n\n\n\nCLICK TO BUY YOUR TICKET!\n\nThis event will be a little bit different than our regular speed networking events and will start with an open networking happy hour\, appetizers included\, with introductions to your hosts\, Portkey and Eagan City Lifestyle Magazine\, followed by our speed networking agenda!\n\n3 PM to 3:30 PM: Happy hour\, Open Networking and Introductions\n\n3:30 - 5 PM: Structured Speed Networking!\n\nDon't miss this opportunity to grow your circle and boost your career prospects. We will have coffee\, water and appetizers.\n\nWho should attend? We welcome any and all local Business owners and/or business professionals who would like to expand their professional network in the Twin Cities through relationship building and referral marketing.\n\nWhat to expect? Open networking time followed by a structured networking agenda with a list of questions to ask during your speed networking time to meet the maximum amount of professionals in a short amount of time. Follow up instructions included for you to get meetings scheduled\, so you can walk away from this event with new connections made and meetings on your calendar so they can hopefully amount to something\; sales\, business or partnerships!\n\nWhat to bring? Business cards\, an open calendar to schedule some follow up meetings\, and of course\, a positive attitude!\n\nHow to dress? How would you like to look when meeting a future customer\, client or partner? It is always good to dress to impress\, but business casual would work just great :)\n\nOnly Limited Spots available so buy your ticket now! We are so excited to have you!\n\nSee you there!\n\n \n\nTerms and Conditions:\n\n-By purchasing a ticket\, you are providing consent to be photographed at our speed networking events for content to be used for marketing purposes.\n\n-By purchasing a ticket\, you are providing consent to be added to our mailing list to be sent future event announcements. You can always feel free to unsubscribe.
X-ALT-DESC;FMTTYPE=text/html:<div>\n<h2>About this event</h2>\n</div>\n\n<div>\n<div>\n<div>\n<div>\n<div>\n<p>Welcome to Portkey&#39\;s&nbsp\;<strong>Professional Speed Networking in collaboration with Eagan City Lifestyle Magazine!&nbsp\;</strong>Join us for a fun and engaging networking event at Union 32 Craft House in Eagan. Meet like-minded professionals\, make valuable connections\, and expand your network in a relaxed environment.<br />\n<br />\n<a href="https://www.eventbrite.com/e/portkeys-professional-speed-networking-for-business-ownersprofessionals-tickets-1984579048357"><span style="color:#0000CD"><em><strong>CLICK TO BUY YOUR TICKET!</strong></em></span></a></p>\n\n<p><strong>This event will be a little bit different than our regular speed networking events and will start with an open networking happy hour\, appetizers included\, with introductions to your hosts\, Portkey and Eagan City Lifestyle Magazine\, followed by our speed networking agenda!</strong></p>\n\n<p><strong>3 PM to 3:30 PM: Happy hour\, Open Networking and Introductions</strong></p>\n\n<p><strong>3:30 - 5 PM: Structured Speed Networking!</strong></p>\n\n<p>Don&#39\;t miss this opportunity to grow your circle and boost your career prospects. We will have coffee\, water and appetizers.</p>\n\n<p><strong>Who should attend?&nbsp\;</strong>We welcome any and all local Business owners and/or business professionals who would like to expand their professional network in the Twin Cities through relationship building and referral marketing.</p>\n\n<p><strong>What to expect?&nbsp\;</strong>Open networking time followed by a structured networking agenda with a list of questions to ask during your speed networking time to meet the maximum amount of professionals in a short amount of time. Follow up instructions included for you to get meetings scheduled\, so you can walk away from this event with new connections made and meetings on your calendar so they can hopefully amount to something\; sales\, business or partnerships!</p>\n\n<p><strong>What to bring?&nbsp\;</strong>Business cards\, an open calendar to schedule some follow up meetings\, and of course\, a positive attitude!</p>\n\n<p><strong>How to dress?&nbsp\;</strong>How would you like to look when meeting a future customer\, client or partner? It is always good to dress to impress\, but business casual would work just great :)</p>\n\n<p><strong>Only Limited Spots available so buy your ticket now! We are so excited to have you!</strong></p>\n\n<p>See you there!</p>\n\n<p>&nbsp\;</p>\n\n<p><em><strong>Terms and Conditions:</strong></em></p>\n\n<p><em><strong>-By purchasing a ticket\, you are providing consent to be photographed at our speed networking events for content to be used for marketing purposes.</strong></em></p>\n\n<p><em><strong>-By purchasing a ticket\, you are providing consent to be added to our mailing list to be sent future event announcements. You can always feel free to unsubscribe.</strong></em></p>\n</div>\n</div>\n</div>\n</div>\n</div>\n
LOCATION:Location Union 32 Craft House 2864 Highway 55 Eagan\, MN 55121
UID:e.1149.71210
SEQUENCE:3
DTSTAMP:20260425T123701Z
URL:https://members.woodburychamber.org/events/details/portkey-professional-speed-networking-in-eagan-co-hosted-by-eagan-city-lifestyle-magazine-71210
END:VEVENT

END:VCALENDAR
