BEGIN:VCALENDAR
VERSION:2.0
PRODID:-//ChamberMaster//Event Calendar 2.0//EN
METHOD:PUBLISH
X-PUBLISHED-TTL:P3D
REFRESH-INTERVAL:P3D
CALSCALE:GREGORIAN
BEGIN:VEVENT
DTSTART:20250505T220000Z
DTEND:20250505T230000Z
X-MICROSOFT-CDO-ALLDAYEVENT:FALSE
SUMMARY:Math and Science Academy Groundbreaking Ceremony
DESCRIPTION:The long awaited groundbreaking for our NEW 6-12th grade building is here!  Please join us on May 5th at 5pm at the new MSA site.  More information coming soon!
X-ALT-DESC;FMTTYPE=text/html:The long awaited groundbreaking for our NEW 6-12th grade building is here!&nbsp\; Please join us on May 5th at 5pm at the new MSA site.&nbsp\; More information coming soon!
LOCATION:
UID:e.1149.68993
SEQUENCE:3
DTSTAMP:20260425T135339Z
URL:https://members.woodburychamber.org/events/details/math-and-science-academy-groundbreaking-ceremony-68993
END:VEVENT

END:VCALENDAR
