BEGIN:VCALENDAR
VERSION:2.0
PRODID:-//ChamberMaster//Event Calendar 2.0//EN
METHOD:PUBLISH
X-PUBLISHED-TTL:P3D
REFRESH-INTERVAL:P3D
CALSCALE:GREGORIAN
BEGIN:VEVENT
DTSTART:20250707T010000Z
DTEND:20250707T040000Z
X-MICROSOFT-CDO-ALLDAYEVENT:FALSE
SUMMARY:Independence Day Aboard a St. Croix River Cruise July 6th.
DESCRIPTION:Experience the magic of Independence Day from the best seat in the house   aboard a St. Croix River Cruise. Join us for an unforgettable evening on the water featuring a scenic cruise\, delicious dinner (optional)\, and a spectacular view of the Hudson fireworks display July 6th.
X-ALT-DESC;FMTTYPE=text/html:<strong>Experience the magic of Independence Day from the best seat in the house &mdash\; aboard a St. Croix River Cruise.</strong> Join us for an unforgettable evening on the water featuring a scenic cruise\, delicious dinner (optional)\, and a spectacular view of the Hudson fireworks display July 6th.
LOCATION:St. Croix River Cruises Location: Hudson City Pier (1st & Walnut St\, Hudson\, WI)
UID:e.1149.69092
SEQUENCE:3
DTSTAMP:20260420T093253Z
URL:https://members.woodburychamber.org/events/details/independence-day-aboard-a-st-croix-river-cruise-july-6th-69092
END:VEVENT

END:VCALENDAR
